BEGIN:VCALENDAR
VERSION:2.0
PRODID:-//University SDA Church - ECPv6.15.20//NONSGML v1.0//EN
CALSCALE:GREGORIAN
METHOD:PUBLISH
X-ORIGINAL-URL:https://unisdac.org
X-WR-CALDESC:Events for University SDA Church
REFRESH-INTERVAL;VALUE=DURATION:PT1H
X-Robots-Tag:noindex
X-PUBLISHED-TTL:PT1H
BEGIN:VTIMEZONE
TZID:Europe/Helsinki
BEGIN:DAYLIGHT
TZOFFSETFROM:+0200
TZOFFSETTO:+0300
TZNAME:EEST
DTSTART:20250330T010000
END:DAYLIGHT
BEGIN:STANDARD
TZOFFSETFROM:+0300
TZOFFSETTO:+0200
TZNAME:EET
DTSTART:20251026T010000
END:STANDARD
BEGIN:DAYLIGHT
TZOFFSETFROM:+0200
TZOFFSETTO:+0300
TZNAME:EEST
DTSTART:20260329T010000
END:DAYLIGHT
BEGIN:STANDARD
TZOFFSETFROM:+0300
TZOFFSETTO:+0200
TZNAME:EET
DTSTART:20261025T010000
END:STANDARD
BEGIN:DAYLIGHT
TZOFFSETFROM:+0200
TZOFFSETTO:+0300
TZNAME:EEST
DTSTART:20270328T010000
END:DAYLIGHT
BEGIN:STANDARD
TZOFFSETFROM:+0300
TZOFFSETTO:+0200
TZNAME:EET
DTSTART:20271031T010000
END:STANDARD
END:VTIMEZONE
BEGIN:VEVENT
DTSTART;TZID=Europe/Helsinki:20260117T140000
DTEND;TZID=Europe/Helsinki:20260117T170000
DTSTAMP:20260425T182722
CREATED:20260116T130541Z
LAST-MODIFIED:20260116T130542Z
UID:1860-1768658400-1768669200@unisdac.org
SUMMARY:Joint Induction
DESCRIPTION:This Sabbath\, we close the 10 Days of Prayer with a Joint Induction Sabbath. Adventist Men\, DORCAS Women\, Pathfinders\, Adventurers\, Ambassadors\, Young Adults\, and Public Campus Ministries will be inducting new members and renewing their commitments to mission and service. \n\n\n\nOur annual theme is Boldness. This is what boldness looks like: a church united in prayer\, Spirit filled\, and ready to move. \n\n\n\nYou are warmly invited to this great commissioning.
URL:https://unisdac.org/event/joint-induction/
LOCATION:University SDA Church\, 25210 Katima mulilo Road\, Olympia\, Lusaka\, Lusaka\, Zambia
END:VEVENT
BEGIN:VEVENT
DTSTART;TZID=Europe/Helsinki:20260131T140000
DTEND;TZID=Europe/Helsinki:20260131T170000
DTSTAMP:20260425T182722
CREATED:20260129T071851Z
LAST-MODIFIED:20260129T071852Z
UID:1871-1769868000-1769878800@unisdac.org
SUMMARY:Sabbath Fruit Distribution
DESCRIPTION:The DORCAS society is conducting a fruit distribution the Sabbath afternoon of 31st January\, 2026. \n\n\n\nTO participate\, plan to accompany them or render your support by purchasing fruit and dropping it off at church. You can contact the Dorcas Society leader.
URL:https://unisdac.org/event/sabbath-fruit-distribution/
END:VEVENT
BEGIN:VEVENT
DTSTART;TZID=Europe/Helsinki:20260214T173000
DTEND;TZID=Europe/Helsinki:20260221T193000
DTSTAMP:20260425T182722
CREATED:20260129T072507Z
LAST-MODIFIED:20260129T072511Z
UID:1874-1771090200-1771702200@unisdac.org
SUMMARY:The Numbered Faithful: Week of Prayer
DESCRIPTION:Stewardship & Family Life Week of Prayer 2026 is around the corner. This year\, our theme is “The Numbered Faithful”. \n\n\n\nFrom 14th to 21st February\, 2026 we will be joined by Pr. Thabo Mhlanga from Rosebank SDA Church\, South Africa\, as he leads us through one full week or revival. \n\n\n\nServices will be held at church and online. Let’s plan to attend!
URL:https://unisdac.org/event/the-numbered-faithful-week-of-prayer/
LOCATION:University SDA Church\, 25210 Katima mulilo Road\, Olympia\, Lusaka\, Lusaka\, Zambia
END:VEVENT
BEGIN:VEVENT
DTSTART;TZID=Europe/Helsinki:20260419T080000
DTEND;TZID=Europe/Helsinki:20260425T200000
DTSTAMP:20260425T182722
CREATED:20260410T082229Z
LAST-MODIFIED:20260410T082231Z
UID:1882-1776585600-1777147200@unisdac.org
SUMMARY:Campmeeting 2026
DESCRIPTION:We are pleased to invite you to this year’s camp meeting\, taking place between 19th April and 25th April 2026 at our campsite in Grasmere! Our theme is: “Boldness in Identity”. \n\n\n\nThis year’s programme features an exceptional lineup of speakers and music ministries\, including special guest artists alongside our own talented church musicians.
URL:https://unisdac.org/event/campmeeting-2026/
END:VEVENT
END:VCALENDAR