BEGIN:VCALENDAR
VERSION:2.0
PRODID:-//University SDA Church - ECPv6.15.20//NONSGML v1.0//EN
CALSCALE:GREGORIAN
METHOD:PUBLISH
X-WR-CALNAME:University SDA Church
X-ORIGINAL-URL:https://unisdac.org
X-WR-CALDESC:Events for University SDA Church
REFRESH-INTERVAL;VALUE=DURATION:PT1H
X-Robots-Tag:noindex
X-PUBLISHED-TTL:PT1H
BEGIN:VTIMEZONE
TZID:Europe/Helsinki
BEGIN:DAYLIGHT
TZOFFSETFROM:+0200
TZOFFSETTO:+0300
TZNAME:EEST
DTSTART:20240331T010000
END:DAYLIGHT
BEGIN:STANDARD
TZOFFSETFROM:+0300
TZOFFSETTO:+0200
TZNAME:EET
DTSTART:20241027T010000
END:STANDARD
BEGIN:DAYLIGHT
TZOFFSETFROM:+0200
TZOFFSETTO:+0300
TZNAME:EEST
DTSTART:20250330T010000
END:DAYLIGHT
BEGIN:STANDARD
TZOFFSETFROM:+0300
TZOFFSETTO:+0200
TZNAME:EET
DTSTART:20251026T010000
END:STANDARD
BEGIN:DAYLIGHT
TZOFFSETFROM:+0200
TZOFFSETTO:+0300
TZNAME:EEST
DTSTART:20260329T010000
END:DAYLIGHT
BEGIN:STANDARD
TZOFFSETFROM:+0300
TZOFFSETTO:+0200
TZNAME:EET
DTSTART:20261025T010000
END:STANDARD
END:VTIMEZONE
BEGIN:VEVENT
DTSTART;TZID=Europe/Helsinki:20250712T080000
DTEND;TZID=Europe/Helsinki:20250712T170000
DTSTAMP:20260425T065100
CREATED:20250709T130248Z
LAST-MODIFIED:20250709T130252Z
UID:1822-1752307200-1752339600@unisdac.org
SUMMARY:Sabbath In The Woods
DESCRIPTION:“But ask the animals\, and they will teach you\, or the birds in the sky\, and they will tell you; or speak to the earth\, and it will teach you\, or let the fish in the sea inform you. Which of all these does not know that the hand of the Lord has done this? In his hand is the life of every creature and the breath of all mankind.” \nJob 12:7 – 10\n\n\n\nYou are warmly invited to spend a Sabbath in the Woods\, resting in the wonders of God’s creation and rediscovering what His handiwork reveals about Him.  \n\n\n\nJoin us on the 12th of July\, 2025\, for this special\, once-in-a-year Sabbath experience as we step away from our usual walls and worship together outdoors\, surrounded by the beauty of nature. It will be a full day spent together in nature\, with the Word brought to us by Pastor Nathan Muyambango and music ministry by Shiloh. \n\n\n\nMark your calendars.#WillYouBeThere
URL:https://unisdac.org/event/sabbath-in-the-woods/
END:VEVENT
BEGIN:VEVENT
DTSTART;TZID=Europe/Helsinki:20250713T090000
DTEND;TZID=Europe/Helsinki:20250713T110000
DTSTAMP:20260425T065100
CREATED:20250709T142838Z
LAST-MODIFIED:20250709T142840Z
UID:1821-1752397200-1752404400@unisdac.org
SUMMARY:WM: Workshop: Balance Like a Boss
DESCRIPTION:The Women’s Ministries Department invites all women\, young and old\, students\, entrepreneurs and professionals to two Career Management Workshops this July. \n\n\n\nWM Workshop: Balance Like a Boss | 13th July\, 2025Discover practical strategies to balance work\, faith\, and family\, manage your workload or business\, set healthy boundaries\, and thrive\, not just survive.
URL:https://unisdac.org/event/wm-workshop-balance-like-a-boss/
LOCATION:University SDA Church\, 25210 Katima mulilo Road\, Olympia\, Lusaka\, Lusaka\, Zambia
END:VEVENT
BEGIN:VEVENT
DTSTART;TZID=Europe/Helsinki:20250720T090000
DTEND;TZID=Europe/Helsinki:20250720T110000
DTSTAMP:20260425T065100
CREATED:20250709T150258Z
LAST-MODIFIED:20250709T150259Z
UID:1823-1753002000-1753009200@unisdac.org
SUMMARY:YAWM Workshop: Skill Up & Stand Out
DESCRIPTION:The Women’s Ministries Department invites all women\, young and old\, students\, entrepreneurs and professionals to two Career Management Workshops this July. \n\n\n\nYAWM Workshop: Skill Up & Stand Out | 20th July\, 2025 \n\n\n\nLearn how to sharpen your skills\, showcase them\, and stand out in any environment. Our skills are our currency so let’s invest wisely.
URL:https://unisdac.org/event/yawm-workshop-skill-up-stand-out/
LOCATION:University SDA Church\, 25210 Katima mulilo Road\, Olympia\, Lusaka\, Lusaka\, Zambia
END:VEVENT
END:VCALENDAR